BEGIN:VCALENDAR
VERSION:2.0
PRODID:-//Western New York - ECPv6.15.20//NONSGML v1.0//EN
CALSCALE:GREGORIAN
METHOD:PUBLISH
X-ORIGINAL-URL:https://westernnewyork.pga.com
X-WR-CALDESC:Events for Western New York
REFRESH-INTERVAL;VALUE=DURATION:PT1H
X-Robots-Tag:noindex
X-PUBLISHED-TTL:PT1H
BEGIN:VTIMEZONE
TZID:UTC
BEGIN:STANDARD
TZOFFSETFROM:+0000
TZOFFSETTO:+0000
TZNAME:UTC
DTSTART:20180101T000000
END:STANDARD
END:VTIMEZONE
BEGIN:VEVENT
DTSTART;VALUE=DATE:20210830
DTEND;VALUE=DATE:20210831
DTSTAMP:20260425T122555
CREATED:20210208T174429Z
LAST-MODIFIED:20210208T174429Z
UID:10000491-1630281600-1630367999@westernnewyork.pga.com
SUMMARY:Wellsville Pro-Am
DESCRIPTION:
URL:https://westernnewyork.pga.com/event/wellsville-pro-am/
LOCATION:Wellsville CC\, 3006 Riverside Drive\, Wellsville\, New York\, 14895\, United States
CATEGORIES:Professional
GEO:42.132769;-77.9633455
X-APPLE-STRUCTURED-LOCATION;VALUE=URI;X-ADDRESS=Wellsville CC 3006 Riverside Drive Wellsville New York 14895 United States;X-APPLE-RADIUS=500;X-TITLE=3006 Riverside Drive:geo:-77.9633455,42.132769
END:VEVENT
BEGIN:VEVENT
DTSTART;VALUE=DATE:20200824
DTEND;VALUE=DATE:20200825
DTSTAMP:20260425T122555
CREATED:20200107T181959Z
LAST-MODIFIED:20200107T190518Z
UID:10000455-1598227200-1598313599@westernnewyork.pga.com
SUMMARY:Wellsville CC Pro Am
DESCRIPTION:A WNYPGA Pro Am Series Event – Profesional and Amateur Partner will be paired with 2 Amateurs and will compete in a 2-BB of 4 Pro Am + Professional Stroke Play
URL:https://westernnewyork.pga.com/event/wellsville-cc-pro-am-2/
LOCATION:Wellsville CC\, 3006 Riverside Drive\, Wellsville\, New York\, 14895\, United States
CATEGORIES:Professional
GEO:42.132769;-77.9633455
X-APPLE-STRUCTURED-LOCATION;VALUE=URI;X-ADDRESS=Wellsville CC 3006 Riverside Drive Wellsville New York 14895 United States;X-APPLE-RADIUS=500;X-TITLE=3006 Riverside Drive:geo:-77.9633455,42.132769
END:VEVENT
BEGIN:VEVENT
DTSTART;VALUE=DATE:20190826
DTEND;VALUE=DATE:20190827
DTSTAMP:20260425T122555
CREATED:20190212T152353Z
LAST-MODIFIED:20190212T152353Z
UID:10000416-1566777600-1566863999@westernnewyork.pga.com
SUMMARY:Wellsville CC Pro Am
DESCRIPTION:A WNYPGA Pro Am Series Event – Profesionals will be paired with 3 Amateurs and will compete in a 2-BB of 4 Pro Am + Professional Stroke Play
URL:https://westernnewyork.pga.com/event/wellsville-cc-pro-am/
LOCATION:Wellsville CC\, 3006 Riverside Drive\, Wellsville\, New York\, 14895\, United States
CATEGORIES:Professional
GEO:42.132769;-77.9633455
X-APPLE-STRUCTURED-LOCATION;VALUE=URI;X-ADDRESS=Wellsville CC 3006 Riverside Drive Wellsville New York 14895 United States;X-APPLE-RADIUS=500;X-TITLE=3006 Riverside Drive:geo:-77.9633455,42.132769
END:VEVENT
BEGIN:VEVENT
DTSTART;VALUE=DATE:20190622
DTEND;VALUE=DATE:20190623
DTSTAMP:20260425T122555
CREATED:20190212T152321Z
LAST-MODIFIED:20190212T152321Z
UID:10000349-1561161600-1561247999@westernnewyork.pga.com
SUMMARY:WNYPGA Jr Tour Wellsville CC
DESCRIPTION:Junior Tour Event open to members of The WNYPGA Junior Tour Ages 10 – 18
URL:https://westernnewyork.pga.com/event/wnypga-jr-tour-wellsville-cc/
LOCATION:Wellsville CC\, 3006 Riverside Drive\, Wellsville\, New York\, 14895\, United States
CATEGORIES:Junior Golf
GEO:42.132769;-77.9633455
X-APPLE-STRUCTURED-LOCATION;VALUE=URI;X-ADDRESS=Wellsville CC 3006 Riverside Drive Wellsville New York 14895 United States;X-APPLE-RADIUS=500;X-TITLE=3006 Riverside Drive:geo:-77.9633455,42.132769
END:VEVENT
END:VCALENDAR