BEGIN:VCALENDAR
VERSION:2.0
PRODID:-//Western New York - ECPv6.15.20//NONSGML v1.0//EN
CALSCALE:GREGORIAN
METHOD:PUBLISH
X-ORIGINAL-URL:https://westernnewyork.pga.com
X-WR-CALDESC:Events for Western New York
REFRESH-INTERVAL;VALUE=DURATION:PT1H
X-Robots-Tag:noindex
X-PUBLISHED-TTL:PT1H
BEGIN:VTIMEZONE
TZID:UTC
BEGIN:STANDARD
TZOFFSETFROM:+0000
TZOFFSETTO:+0000
TZNAME:UTC
DTSTART:20180101T000000
END:STANDARD
END:VTIMEZONE
BEGIN:VEVENT
DTSTART;VALUE=DATE:20211011
DTEND;VALUE=DATE:20211013
DTSTAMP:20260423T035953
CREATED:20210208T175441Z
LAST-MODIFIED:20210810T170759Z
UID:10000370-1633910400-1634083199@westernnewyork.pga.com
SUMMARY:Tour Championship
DESCRIPTION:
URL:https://westernnewyork.pga.com/event/tour-championship/
LOCATION:River Oaks GC\, 201 Whitehaven Road\, Grand Island\, New York\, 14072\, United States
CATEGORIES:Professional
GEO:43.023;-78.8986512
X-APPLE-STRUCTURED-LOCATION;VALUE=URI;X-ADDRESS=River Oaks GC 201 Whitehaven Road Grand Island New York 14072 United States;X-APPLE-RADIUS=500;X-TITLE=201 Whitehaven Road:geo:-78.8986512,43.023
END:VEVENT
BEGIN:VEVENT
DTSTART;VALUE=DATE:20190920
DTEND;VALUE=DATE:20190921
DTSTAMP:20260423T035953
CREATED:20190212T152357Z
LAST-MODIFIED:20190212T152357Z
UID:10000287-1568937600-1569023999@westernnewyork.pga.com
SUMMARY:National Car Rental Assistant Championship
DESCRIPTION:36 Hole Stroke Play for the WNYPGA Assistant Championship and  1 Spot and 3 Alternates for the 2019 National Car Rental Assistant PGA Professional Championship.
URL:https://westernnewyork.pga.com/event/national-car-rental-assistant-championship/
LOCATION:River Oaks GC\, 201 Whitehaven Road\, Grand Island\, New York\, 14072\, United States
CATEGORIES:Professional
GEO:43.023;-78.8986512
X-APPLE-STRUCTURED-LOCATION;VALUE=URI;X-ADDRESS=River Oaks GC 201 Whitehaven Road Grand Island New York 14072 United States;X-APPLE-RADIUS=500;X-TITLE=201 Whitehaven Road:geo:-78.8986512,43.023
END:VEVENT
END:VCALENDAR