BEGIN:VCALENDAR
VERSION:2.0
PRODID:-//Western New York - ECPv6.15.20//NONSGML v1.0//EN
CALSCALE:GREGORIAN
METHOD:PUBLISH
X-ORIGINAL-URL:https://westernnewyork.pga.com
X-WR-CALDESC:Events for Western New York
REFRESH-INTERVAL;VALUE=DURATION:PT1H
X-Robots-Tag:noindex
X-PUBLISHED-TTL:PT1H
BEGIN:VTIMEZONE
TZID:UTC
BEGIN:STANDARD
TZOFFSETFROM:+0000
TZOFFSETTO:+0000
TZNAME:UTC
DTSTART:20190101T000000
END:STANDARD
END:VTIMEZONE
BEGIN:VEVENT
DTSTART;VALUE=DATE:20201002
DTEND;VALUE=DATE:20201003
DTSTAMP:20260422T022525
CREATED:20200107T182004Z
LAST-MODIFIED:20200107T185009Z
UID:10000335-1601596800-1601683199@westernnewyork.pga.com
SUMMARY:PGA Playing Ability Test
DESCRIPTION:The PGA Playing Ability Test is conducted by the PGA of America for individuals pursuing PGA Membership
URL:https://westernnewyork.pga.com/event/pga-playing-ability-test-12/
LOCATION:Gowanda CC\, 2623 Brown Road\, Collins\, New York\, 14034\, United States
GEO:42.5184258;-78.9048798
X-APPLE-STRUCTURED-LOCATION;VALUE=URI;X-ADDRESS=Gowanda CC 2623 Brown Road Collins New York 14034 United States;X-APPLE-RADIUS=500;X-TITLE=2623 Brown Road:geo:-78.9048798,42.5184258
END:VEVENT
BEGIN:VEVENT
DTSTART;VALUE=DATE:20201005
DTEND;VALUE=DATE:20201006
DTSTAMP:20260422T022525
CREATED:20200107T182003Z
LAST-MODIFIED:20200107T184641Z
UID:10000333-1601856000-1601942399@westernnewyork.pga.com
SUMMARY:WNYPGA Sr-Jr Cup Matches
DESCRIPTION:The top 12 of respective WNYPGA Seniors & Juniors compete in a 27 hole Ryder Cup format competition.
URL:https://westernnewyork.pga.com/event/wnypga-sr-jr-cup-matches-2/
LOCATION:Holiday Valley Resort\, P.O. Box 370 - Holiday Valley Rd.\, Ellicottville\, New York\, 14731\, United States
CATEGORIES:Professional
GEO:42.2629327;-78.6855629
X-APPLE-STRUCTURED-LOCATION;VALUE=URI;X-ADDRESS=Holiday Valley Resort P.O. Box 370 - Holiday Valley Rd. Ellicottville New York 14731 United States;X-APPLE-RADIUS=500;X-TITLE=P.O. Box 370 - Holiday Valley Rd.:geo:-78.6855629,42.2629327
END:VEVENT
BEGIN:VEVENT
DTSTART;VALUE=DATE:20201012
DTEND;VALUE=DATE:20201013
DTSTAMP:20260422T022525
CREATED:20200107T182004Z
LAST-MODIFIED:20200107T184754Z
UID:10000337-1602460800-1602547199@westernnewyork.pga.com
SUMMARY:Hole-In-One Club ShootOut
DESCRIPTION:WNYPGA Hole-In-One participants play in a Proximity Shoot-Out
URL:https://westernnewyork.pga.com/event/hole-in-one-club-shootout/
LOCATION:Glen Oak GC\, East Amherst\, NY\, 711 Smith Road PO Box 179\, East Amherst\, NY\, 14051\, United States
CATEGORIES:Professional
GEO:43.047837;-78.7140959
X-APPLE-STRUCTURED-LOCATION;VALUE=URI;X-ADDRESS=Glen Oak GC East Amherst NY 711 Smith Road PO Box 179 East Amherst NY 14051 United States;X-APPLE-RADIUS=500;X-TITLE=711 Smith Road PO Box 179:geo:-78.7140959,43.047837
END:VEVENT
BEGIN:VEVENT
DTSTART;VALUE=DATE:20201015
DTEND;VALUE=DATE:20201019
DTSTAMP:20260422T022526
CREATED:20200113T192310Z
LAST-MODIFIED:20200113T192310Z
UID:10000459-1602720000-1603065599@westernnewyork.pga.com
SUMMARY:Sr PGA Professional Championship
DESCRIPTION:
URL:https://westernnewyork.pga.com/event/sr-pga-professional-championship/
LOCATION:NY
END:VEVENT
END:VCALENDAR