BEGIN:VCALENDAR
VERSION:2.0
PRODID:-//Western New York - ECPv6.15.20//NONSGML v1.0//EN
CALSCALE:GREGORIAN
METHOD:PUBLISH
X-ORIGINAL-URL:https://westernnewyork.pga.com
X-WR-CALDESC:Events for Western New York
REFRESH-INTERVAL;VALUE=DURATION:PT1H
X-Robots-Tag:noindex
X-PUBLISHED-TTL:PT1H
BEGIN:VTIMEZONE
TZID:UTC
BEGIN:STANDARD
TZOFFSETFROM:+0000
TZOFFSETTO:+0000
TZNAME:UTC
DTSTART:20190101T000000
END:STANDARD
END:VTIMEZONE
BEGIN:VEVENT
DTSTART;TZID=UTC:20200316T130000
DTEND;TZID=UTC:20200316T160000
DTSTAMP:20260419T215158
CREATED:20200304T183748Z
LAST-MODIFIED:20200304T183748Z
UID:10000464-1584363600-1584374400@westernnewyork.pga.com
SUMMARY:World Handicap System Seminar
DESCRIPTION:World Handicap System Seminar – Glen Oak Golf Course\nMonday\, March 16th\, 2020\nPresented by: The New York State Golf Association \nTime: 1:00 pm – 4:00 pm \nPGA Professionals and golf chairpersons are welcome to join. \nIncludes beverages for all participants. \nTopics Include: World Handicap System\, New GHIN platform and all participants will have the opportunity to take the required WHS Licensing Quiz.
URL:https://westernnewyork.pga.com/event/world-handicap-system-seminar/
LOCATION:NY
END:VEVENT
END:VCALENDAR