BEGIN:VCALENDAR
VERSION:2.0
PRODID:-//Western New York - ECPv6.15.20//NONSGML v1.0//EN
CALSCALE:GREGORIAN
METHOD:PUBLISH
X-WR-CALNAME:Western New York
X-ORIGINAL-URL:https://westernnewyork.pga.com
X-WR-CALDESC:Events for Western New York
REFRESH-INTERVAL;VALUE=DURATION:PT1H
X-Robots-Tag:noindex
X-PUBLISHED-TTL:PT1H
BEGIN:VTIMEZONE
TZID:UTC
BEGIN:STANDARD
TZOFFSETFROM:+0000
TZOFFSETTO:+0000
TZNAME:UTC
DTSTART:20200101T000000
END:STANDARD
END:VTIMEZONE
BEGIN:VEVENT
DTSTART;TZID=UTC:20211011T080000
DTEND;TZID=UTC:20211011T170000
DTSTAMP:20260426T031711
CREATED:20210208T180332Z
LAST-MODIFIED:20210208T180332Z
UID:10000375-1633939200-1633971600@westernnewyork.pga.com
SUMMARY:Club Car Hole-In-One Shootout
DESCRIPTION:
URL:https://westernnewyork.pga.com/event/club-car-hole-in-one-shootout/
LOCATION:Glen Oak GC\, East Amherst\, NY\, 711 Smith Road PO Box 179\, East Amherst\, NY\, 14051\, United States
CATEGORIES:Professional
GEO:43.047837;-78.7140959
X-APPLE-STRUCTURED-LOCATION;VALUE=URI;X-ADDRESS=Glen Oak GC East Amherst NY 711 Smith Road PO Box 179 East Amherst NY 14051 United States;X-APPLE-RADIUS=500;X-TITLE=711 Smith Road PO Box 179:geo:-78.7140959,43.047837
END:VEVENT
BEGIN:VEVENT
DTSTART;VALUE=DATE:20211011
DTEND;VALUE=DATE:20211013
DTSTAMP:20260426T031711
CREATED:20210208T175441Z
LAST-MODIFIED:20210810T170759Z
UID:10000370-1633910400-1634083199@westernnewyork.pga.com
SUMMARY:Tour Championship
DESCRIPTION:
URL:https://westernnewyork.pga.com/event/tour-championship/
LOCATION:River Oaks GC\, 201 Whitehaven Road\, Grand Island\, New York\, 14072\, United States
CATEGORIES:Professional
GEO:43.023;-78.8986512
X-APPLE-STRUCTURED-LOCATION;VALUE=URI;X-ADDRESS=River Oaks GC 201 Whitehaven Road Grand Island New York 14072 United States;X-APPLE-RADIUS=500;X-TITLE=201 Whitehaven Road:geo:-78.8986512,43.023
END:VEVENT
BEGIN:VEVENT
DTSTART;VALUE=DATE:20211008
DTEND;VALUE=DATE:20211009
DTSTAMP:20260426T031711
CREATED:20210208T175626Z
LAST-MODIFIED:20210208T175626Z
UID:10000373-1633651200-1633737599@westernnewyork.pga.com
SUMMARY:PGA Playing Ability Test
DESCRIPTION:
URL:https://westernnewyork.pga.com/event/pga-playing-ability-test-18/
LOCATION:Gowanda CC\, 2623 Brown Road\, Collins\, New York\, 14034\, United States
CATEGORIES:Professional
GEO:42.5184258;-78.9048798
X-APPLE-STRUCTURED-LOCATION;VALUE=URI;X-ADDRESS=Gowanda CC 2623 Brown Road Collins New York 14034 United States;X-APPLE-RADIUS=500;X-TITLE=2623 Brown Road:geo:-78.9048798,42.5184258
END:VEVENT
BEGIN:VEVENT
DTSTART;VALUE=DATE:20211004
DTEND;VALUE=DATE:20211005
DTSTAMP:20260426T031711
CREATED:20210208T175544Z
LAST-MODIFIED:20210208T175544Z
UID:10000372-1633305600-1633391999@westernnewyork.pga.com
SUMMARY:Senior-Junior Cup Matches
DESCRIPTION:
URL:https://westernnewyork.pga.com/event/senior-junior-cup-matches/
LOCATION:Holiday Valley Resort\, P.O. Box 370 - Holiday Valley Rd.\, Ellicottville\, New York\, 14731\, United States
CATEGORIES:Professional
GEO:42.2629327;-78.6855629
X-APPLE-STRUCTURED-LOCATION;VALUE=URI;X-ADDRESS=Holiday Valley Resort P.O. Box 370 - Holiday Valley Rd. Ellicottville New York 14731 United States;X-APPLE-RADIUS=500;X-TITLE=P.O. Box 370 - Holiday Valley Rd.:geo:-78.6855629,42.2629327
END:VEVENT
BEGIN:VEVENT
DTSTART;VALUE=DATE:20210927
DTEND;VALUE=DATE:20210928
DTSTAMP:20260426T031711
CREATED:20210208T170704Z
LAST-MODIFIED:20210810T170904Z
UID:10000480-1632700800-1632787199@westernnewyork.pga.com
SUMMARY:Children's Hospital Invitational
DESCRIPTION:
URL:https://westernnewyork.pga.com/event/childrens-hospital-invitational/
LOCATION:Park Club\, 4949 Sheridan Drive\, Williamsville\, New York\, 14221\, United States
CATEGORIES:Professional
GEO:42.9774743;-78.7523105
X-APPLE-STRUCTURED-LOCATION;VALUE=URI;X-ADDRESS=Park Club 4949 Sheridan Drive Williamsville New York 14221 United States;X-APPLE-RADIUS=500;X-TITLE=4949 Sheridan Drive:geo:-78.7523105,42.9774743
END:VEVENT
BEGIN:VEVENT
DTSTART;VALUE=DATE:20210926
DTEND;VALUE=DATE:20210927
DTSTAMP:20260426T031711
CREATED:20210208T171325Z
LAST-MODIFIED:20210810T171023Z
UID:10000485-1632614400-1632700799@westernnewyork.pga.com
SUMMARY:Kahkwa Invitational
DESCRIPTION:
URL:https://westernnewyork.pga.com/event/kahkwa-invitational/
LOCATION:The Kahkwa Club\, 3300 Kahkwa Club Rd.\, Erie\, Pennsylvania\, 16505\, United States
CATEGORIES:Professional
GEO:42.054329;-80.2044389
X-APPLE-STRUCTURED-LOCATION;VALUE=URI;X-ADDRESS=The Kahkwa Club 3300 Kahkwa Club Rd. Erie Pennsylvania 16505 United States;X-APPLE-RADIUS=500;X-TITLE=3300 Kahkwa Club Rd.:geo:-80.2044389,42.054329
END:VEVENT
BEGIN:VEVENT
DTSTART;VALUE=DATE:20210920
DTEND;VALUE=DATE:20210921
DTSTAMP:20260426T031711
CREATED:20210208T175335Z
LAST-MODIFIED:20210208T175335Z
UID:10000368-1632096000-1632182399@westernnewyork.pga.com
SUMMARY:Golf Max Pro-Pro Championship
DESCRIPTION:
URL:https://westernnewyork.pga.com/event/golf-max-pro-pro-championship/
LOCATION:Niagara Falls CC\, 505 Mountain View Road\, Lewiston\, New York\, 14092\, United States
CATEGORIES:Professional
GEO:43.1627487;-79.0365549
X-APPLE-STRUCTURED-LOCATION;VALUE=URI;X-ADDRESS=Niagara Falls CC 505 Mountain View Road Lewiston New York 14092 United States;X-APPLE-RADIUS=500;X-TITLE=505 Mountain View Road:geo:-79.0365549,43.1627487
END:VEVENT
BEGIN:VEVENT
DTSTART;VALUE=DATE:20210917
DTEND;VALUE=DATE:20210918
DTSTAMP:20260426T031711
CREATED:20210208T174831Z
LAST-MODIFIED:20210208T175157Z
UID:10000362-1631836800-1631923199@westernnewyork.pga.com
SUMMARY:PGA Playing Ability Test
DESCRIPTION:
URL:https://westernnewyork.pga.com/event/pga-playing-ability-test-17/
LOCATION:Seneca Hickory Stick\, 4560 Creek Road\, Lewiston\, New York\, 14092\, United States
CATEGORIES:Professional
GEO:43.1970666;-79.023144
X-APPLE-STRUCTURED-LOCATION;VALUE=URI;X-ADDRESS=Seneca Hickory Stick 4560 Creek Road Lewiston New York 14092 United States;X-APPLE-RADIUS=500;X-TITLE=4560 Creek Road:geo:-79.023144,43.1970666
END:VEVENT
BEGIN:VEVENT
DTSTART;VALUE=DATE:20210913
DTEND;VALUE=DATE:20210915
DTSTAMP:20260426T031711
CREATED:20210208T175049Z
LAST-MODIFIED:20210208T175115Z
UID:10000366-1631491200-1631663999@westernnewyork.pga.com
SUMMARY:Match Play Championship
DESCRIPTION:
URL:https://westernnewyork.pga.com/event/match-play-championship/
LOCATION:Crag Burn GC\, 1231 N. Davis Rd.\, East Aurora\, New York\, 14052\, United States
CATEGORIES:Professional
GEO:42.7912434;-78.6737146
X-APPLE-STRUCTURED-LOCATION;VALUE=URI;X-ADDRESS=Crag Burn GC 1231 N. Davis Rd. East Aurora New York 14052 United States;X-APPLE-RADIUS=500;X-TITLE=1231 N. Davis Rd.:geo:-78.6737146,42.7912434
END:VEVENT
BEGIN:VEVENT
DTSTART;VALUE=DATE:20210912
DTEND;VALUE=DATE:20210913
DTSTAMP:20260426T031711
CREATED:20210208T174937Z
LAST-MODIFIED:20210208T174937Z
UID:10000364-1631404800-1631491199@westernnewyork.pga.com
SUMMARY:Locust Hill Pro-Am
DESCRIPTION:
URL:https://westernnewyork.pga.com/event/locust-hill-pro-am/
LOCATION:Locust Hill CC\, 2000 Jefferson Road\, Pittsford\, New York\, 14534\, United States
CATEGORIES:Professional
GEO:43.0881261;-77.5634912
X-APPLE-STRUCTURED-LOCATION;VALUE=URI;X-ADDRESS=Locust Hill CC 2000 Jefferson Road Pittsford New York 14534 United States;X-APPLE-RADIUS=500;X-TITLE=2000 Jefferson Road:geo:-77.5634912,43.0881261
END:VEVENT
BEGIN:VEVENT
DTSTART;VALUE=DATE:20210907
DTEND;VALUE=DATE:20210908
DTSTAMP:20260426T031711
CREATED:20210208T174740Z
LAST-MODIFIED:20210208T174740Z
UID:10000360-1630972800-1631059199@westernnewyork.pga.com
SUMMARY:Pro-Assistant
DESCRIPTION:
URL:https://westernnewyork.pga.com/event/pro-assistant/
LOCATION:Transit Valley Country Club\, 8920 Transit Road\, East Amherst\, NY\, 14051\, United States
CATEGORIES:Professional
GEO:43.0118405;-78.6970738
X-APPLE-STRUCTURED-LOCATION;VALUE=URI;X-ADDRESS=Transit Valley Country Club 8920 Transit Road East Amherst NY 14051 United States;X-APPLE-RADIUS=500;X-TITLE=8920 Transit Road:geo:-78.6970738,43.0118405
END:VEVENT
BEGIN:VEVENT
DTSTART;VALUE=DATE:20210902
DTEND;VALUE=DATE:20210904
DTSTAMP:20260426T031711
CREATED:20210208T174558Z
LAST-MODIFIED:20210208T174558Z
UID:10000358-1630540800-1630713599@westernnewyork.pga.com
SUMMARY:Senior Championship
DESCRIPTION:
URL:https://westernnewyork.pga.com/event/senior-championship/
LOCATION:Blue Heron Hills GC\, 1 Country Club Drive\, Macedon\, New York\, 14502\, United States
CATEGORIES:Professional
GEO:43.126466;-77.32226
X-APPLE-STRUCTURED-LOCATION;VALUE=URI;X-ADDRESS=Blue Heron Hills GC 1 Country Club Drive Macedon New York 14502 United States;X-APPLE-RADIUS=500;X-TITLE=1 Country Club Drive:geo:-77.32226,43.126466
END:VEVENT
BEGIN:VEVENT
DTSTART;VALUE=DATE:20210830
DTEND;VALUE=DATE:20210831
DTSTAMP:20260426T031711
CREATED:20210208T174429Z
LAST-MODIFIED:20210208T174429Z
UID:10000491-1630281600-1630367999@westernnewyork.pga.com
SUMMARY:Wellsville Pro-Am
DESCRIPTION:
URL:https://westernnewyork.pga.com/event/wellsville-pro-am/
LOCATION:Wellsville CC\, 3006 Riverside Drive\, Wellsville\, New York\, 14895\, United States
CATEGORIES:Professional
GEO:42.132769;-77.9633455
X-APPLE-STRUCTURED-LOCATION;VALUE=URI;X-ADDRESS=Wellsville CC 3006 Riverside Drive Wellsville New York 14895 United States;X-APPLE-RADIUS=500;X-TITLE=3006 Riverside Drive:geo:-77.9633455,42.132769
END:VEVENT
BEGIN:VEVENT
DTSTART;VALUE=DATE:20210827
DTEND;VALUE=DATE:20210828
DTSTAMP:20260426T031711
CREATED:20210208T174303Z
LAST-MODIFIED:20210208T174303Z
UID:10000490-1630022400-1630108799@westernnewyork.pga.com
SUMMARY:NCR Assistant Championship
DESCRIPTION:
URL:https://westernnewyork.pga.com/event/ncr-assistant-championship/
LOCATION:Pennhills Club\, Pennhills Dr\, Bradford\, Pennsylvania\, 16701\, United States
CATEGORIES:Professional
GEO:41.9013072;-78.6175824
X-APPLE-STRUCTURED-LOCATION;VALUE=URI;X-ADDRESS=Pennhills Club Pennhills Dr Bradford Pennsylvania 16701 United States;X-APPLE-RADIUS=500;X-TITLE=Pennhills Dr:geo:-78.6175824,41.9013072
END:VEVENT
BEGIN:VEVENT
DTSTART;VALUE=DATE:20210823
DTEND;VALUE=DATE:20210825
DTSTAMP:20260426T031711
CREATED:20210208T174144Z
LAST-MODIFIED:20210208T174144Z
UID:10000492-1629676800-1629849599@westernnewyork.pga.com
SUMMARY:Section Championship
DESCRIPTION:
URL:https://westernnewyork.pga.com/event/section-championship/
LOCATION:Country Club of Buffalo\, 250 Youngs Road\, Williamsville\, NY\, 14221\, United States
CATEGORIES:Professional
GEO:42.9566692;-78.7244426
X-APPLE-STRUCTURED-LOCATION;VALUE=URI;X-ADDRESS=Country Club of Buffalo 250 Youngs Road Williamsville NY 14221 United States;X-APPLE-RADIUS=500;X-TITLE=250 Youngs Road:geo:-78.7244426,42.9566692
END:VEVENT
BEGIN:VEVENT
DTSTART;VALUE=DATE:20210820
DTEND;VALUE=DATE:20210821
DTSTAMP:20260426T031711
CREATED:20210208T172638Z
LAST-MODIFIED:20210208T172638Z
UID:10000489-1629417600-1629503999@westernnewyork.pga.com
SUMMARY:PGA Playing Ability Test
DESCRIPTION:
URL:https://westernnewyork.pga.com/event/pga-playing-ability-test-16/
LOCATION:Glen Oak GC\, East Amherst\, NY\, 711 Smith Road PO Box 179\, East Amherst\, NY\, 14051\, United States
CATEGORIES:Professional
GEO:43.047837;-78.7140959
X-APPLE-STRUCTURED-LOCATION;VALUE=URI;X-ADDRESS=Glen Oak GC East Amherst NY 711 Smith Road PO Box 179 East Amherst NY 14051 United States;X-APPLE-RADIUS=500;X-TITLE=711 Smith Road PO Box 179:geo:-78.7140959,43.047837
END:VEVENT
BEGIN:VEVENT
DTSTART;VALUE=DATE:20210809
DTEND;VALUE=DATE:20210810
DTSTAMP:20260426T031711
CREATED:20210208T171823Z
LAST-MODIFIED:20210208T171823Z
UID:10000488-1628467200-1628553599@westernnewyork.pga.com
SUMMARY:Holiday Valley Pro-Am
DESCRIPTION:
URL:https://westernnewyork.pga.com/event/holiday-valley-pro-am-3/
LOCATION:Holiday Valley Resort\, P.O. Box 370 - Holiday Valley Rd.\, Ellicottville\, New York\, 14731\, United States
CATEGORIES:Professional
GEO:42.2629327;-78.6855629
X-APPLE-STRUCTURED-LOCATION;VALUE=URI;X-ADDRESS=Holiday Valley Resort P.O. Box 370 - Holiday Valley Rd. Ellicottville New York 14731 United States;X-APPLE-RADIUS=500;X-TITLE=P.O. Box 370 - Holiday Valley Rd.:geo:-78.6855629,42.2629327
END:VEVENT
BEGIN:VEVENT
DTSTART;VALUE=DATE:20210802
DTEND;VALUE=DATE:20210803
DTSTAMP:20260426T031711
CREATED:20210208T171711Z
LAST-MODIFIED:20210208T171711Z
UID:10000487-1627862400-1627948799@westernnewyork.pga.com
SUMMARY:WNY Classic
DESCRIPTION:
URL:https://westernnewyork.pga.com/event/wny-classic-3/
LOCATION:Glen Oak GC\, East Amherst\, NY\, 711 Smith Road PO Box 179\, East Amherst\, NY\, 14051\, United States
CATEGORIES:Professional
GEO:43.047837;-78.7140959
X-APPLE-STRUCTURED-LOCATION;VALUE=URI;X-ADDRESS=Glen Oak GC East Amherst NY 711 Smith Road PO Box 179 East Amherst NY 14051 United States;X-APPLE-RADIUS=500;X-TITLE=711 Smith Road PO Box 179:geo:-78.7140959,43.047837
END:VEVENT
BEGIN:VEVENT
DTSTART;VALUE=DATE:20210726
DTEND;VALUE=DATE:20210728
DTSTAMP:20260426T031711
CREATED:20210208T171520Z
LAST-MODIFIED:20210208T171520Z
UID:10000486-1627257600-1627430399@westernnewyork.pga.com
SUMMARY:Blaisdell Pro-Am & Open
DESCRIPTION:
URL:https://westernnewyork.pga.com/event/blaisdell-pro-am-open-3/
LOCATION:Pennhills Club\, Pennhills Dr\, Bradford\, Pennsylvania\, 16701\, United States
CATEGORIES:Professional
GEO:41.9013072;-78.6175824
X-APPLE-STRUCTURED-LOCATION;VALUE=URI;X-ADDRESS=Pennhills Club Pennhills Dr Bradford Pennsylvania 16701 United States;X-APPLE-RADIUS=500;X-TITLE=Pennhills Dr:geo:-78.6175824,41.9013072
END:VEVENT
BEGIN:VEVENT
DTSTART;VALUE=DATE:20210716
DTEND;VALUE=DATE:20210717
DTSTAMP:20260426T031711
CREATED:20210208T171203Z
LAST-MODIFIED:20210208T171203Z
UID:10000484-1626393600-1626479999@westernnewyork.pga.com
SUMMARY:PGA Playing Ability Test
DESCRIPTION:
URL:https://westernnewyork.pga.com/event/pga-playing-ability-test-15/
LOCATION:Buffalo TC\, 6432 Genesee Street\, Lancaster\, New York\, 14086\, United States
CATEGORIES:Professional
GEO:42.9471072;-78.5795316
X-APPLE-STRUCTURED-LOCATION;VALUE=URI;X-ADDRESS=Buffalo TC 6432 Genesee Street Lancaster New York 14086 United States;X-APPLE-RADIUS=500;X-TITLE=6432 Genesee Street:geo:-78.5795316,42.9471072
END:VEVENT
BEGIN:VEVENT
DTSTART;VALUE=DATE:20210712
DTEND;VALUE=DATE:20210713
DTSTAMP:20260426T031711
CREATED:20210208T171108Z
LAST-MODIFIED:20210208T171108Z
UID:10000483-1626048000-1626134399@westernnewyork.pga.com
SUMMARY:WNY OPEN
DESCRIPTION:
URL:https://westernnewyork.pga.com/event/wny-open-3/
LOCATION:Stafford CC\, 8873 Morganville Road\, Stafford\, New York\, 14143\, United States
CATEGORIES:Professional
GEO:42.987164;-78.0711029
X-APPLE-STRUCTURED-LOCATION;VALUE=URI;X-ADDRESS=Stafford CC 8873 Morganville Road Stafford New York 14143 United States;X-APPLE-RADIUS=500;X-TITLE=8873 Morganville Road:geo:-78.0711029,42.987164
END:VEVENT
BEGIN:VEVENT
DTSTART;VALUE=DATE:20210628
DTEND;VALUE=DATE:20210629
DTSTAMP:20260426T031711
CREATED:20210208T170951Z
LAST-MODIFIED:20210208T170951Z
UID:10000482-1624838400-1624924799@westernnewyork.pga.com
SUMMARY:Chautauqua Pro-Am
DESCRIPTION:
URL:https://westernnewyork.pga.com/event/chautauqua-pro-am/
LOCATION:Chautauqua GC\, 4731 West lake Road\, Chautauqua\, New York\, 14722\, United States
CATEGORIES:Professional
GEO:42.2071885;-79.4689632
X-APPLE-STRUCTURED-LOCATION;VALUE=URI;X-ADDRESS=Chautauqua GC 4731 West lake Road Chautauqua New York 14722 United States;X-APPLE-RADIUS=500;X-TITLE=4731 West lake Road:geo:-79.4689632,42.2071885
END:VEVENT
BEGIN:VEVENT
DTSTART;VALUE=DATE:20210625
DTEND;VALUE=DATE:20210626
DTSTAMP:20260426T031711
CREATED:20210208T170825Z
LAST-MODIFIED:20210208T170825Z
UID:10000481-1624579200-1624665599@westernnewyork.pga.com
SUMMARY:Bartlett Pro-Am
DESCRIPTION:
URL:https://westernnewyork.pga.com/event/bartlett-pro-am/
LOCATION:Bartlett CC\, 32 Euclid Avenue\, Olean\, New York\, 14760\, United States
CATEGORIES:Professional
GEO:42.094035;-78.4207668
X-APPLE-STRUCTURED-LOCATION;VALUE=URI;X-ADDRESS=Bartlett CC 32 Euclid Avenue Olean New York 14760 United States;X-APPLE-RADIUS=500;X-TITLE=32 Euclid Avenue:geo:-78.4207668,42.094035
END:VEVENT
BEGIN:VEVENT
DTSTART;VALUE=DATE:20210618
DTEND;VALUE=DATE:20210619
DTSTAMP:20260426T031711
CREATED:20210208T170427Z
LAST-MODIFIED:20210208T170427Z
UID:10000479-1623974400-1624060799@westernnewyork.pga.com
SUMMARY:PGA Playing Ability Test
DESCRIPTION:
URL:https://westernnewyork.pga.com/event/pga-playing-ability-test-14/
LOCATION:Wild Wood CC\, 1201 West Rush Rd. Box 260\, Rush\, New York\, 14543\, United States
CATEGORIES:Professional
GEO:42.9837215;-77.6451823
X-APPLE-STRUCTURED-LOCATION;VALUE=URI;X-ADDRESS=Wild Wood CC 1201 West Rush Rd. Box 260 Rush New York 14543 United States;X-APPLE-RADIUS=500;X-TITLE=1201 West Rush Rd. Box 260:geo:-77.6451823,42.9837215
END:VEVENT
BEGIN:VEVENT
DTSTART;VALUE=DATE:20210614
DTEND;VALUE=DATE:20210615
DTSTAMP:20260426T031711
CREATED:20210208T170305Z
LAST-MODIFIED:20210208T170305Z
UID:10000478-1623628800-1623715199@westernnewyork.pga.com
SUMMARY:Moon Brook Pro-Am Invitational
DESCRIPTION:
URL:https://westernnewyork.pga.com/event/moon-brook-pro-am-invitational/
LOCATION:Moon Brook CC\, 2879 N.Main St Ext\, Jamestown\, New York\, 14702\, United States
CATEGORIES:Professional
GEO:42.1265393;-79.2448613
X-APPLE-STRUCTURED-LOCATION;VALUE=URI;X-ADDRESS=Moon Brook CC 2879 N.Main St Ext Jamestown New York 14702 United States;X-APPLE-RADIUS=500;X-TITLE=2879 N.Main St Ext:geo:-79.2448613,42.1265393
END:VEVENT
BEGIN:VEVENT
DTSTART;VALUE=DATE:20210611
DTEND;VALUE=DATE:20210612
DTSTAMP:20260426T031711
CREATED:20210208T170059Z
LAST-MODIFIED:20210208T170059Z
UID:10000477-1623369600-1623455999@westernnewyork.pga.com
SUMMARY:Lake View Pro-Am Invitational
DESCRIPTION:
URL:https://westernnewyork.pga.com/event/lake-view-pro-am-invitational/
LOCATION:Lake View CC\, 8351 Station Rd. PA Route 89\, North East\, Pennsylvania\, 16428\, United States
CATEGORIES:Professional
GEO:42.181322;-79.8229662
X-APPLE-STRUCTURED-LOCATION;VALUE=URI;X-ADDRESS=Lake View CC 8351 Station Rd. PA Route 89 North East Pennsylvania 16428 United States;X-APPLE-RADIUS=500;X-TITLE=8351 Station Rd. PA Route 89:geo:-79.8229662,42.181322
END:VEVENT
BEGIN:VEVENT
DTSTART;VALUE=DATE:20210604
DTEND;VALUE=DATE:20210605
DTSTAMP:20260426T031711
CREATED:20210208T164815Z
LAST-MODIFIED:20210208T164815Z
UID:10000476-1622764800-1622851199@westernnewyork.pga.com
SUMMARY:Lawrence Park Pro-Am Invitational
DESCRIPTION:
URL:https://westernnewyork.pga.com/event/lawrence-park-pro-am-invitational/
LOCATION:Lawrence Park GC\, 3700 East Lake Road\, Erie\, Pennsylvania\, 16511\, United States
CATEGORIES:Professional
GEO:42.157418;-80.024533
X-APPLE-STRUCTURED-LOCATION;VALUE=URI;X-ADDRESS=Lawrence Park GC 3700 East Lake Road Erie Pennsylvania 16511 United States;X-APPLE-RADIUS=500;X-TITLE=3700 East Lake Road:geo:-80.024533,42.157418
END:VEVENT
BEGIN:VEVENT
DTSTART;VALUE=DATE:20210601
DTEND;VALUE=DATE:20210602
DTSTAMP:20260426T031711
CREATED:20210208T164636Z
LAST-MODIFIED:20210208T164636Z
UID:10000475-1622505600-1622591999@westernnewyork.pga.com
SUMMARY:Club Car Pro-Officer / Superintendent
DESCRIPTION:
URL:https://westernnewyork.pga.com/event/club-car-pro-officer-superintendent/
LOCATION:Ravenwood GC\, 929 Lynaugh Road\, Victor\, New York\, 14564\, United States
CATEGORIES:Professional
GEO:42.9935113;-77.3952193
X-APPLE-STRUCTURED-LOCATION;VALUE=URI;X-ADDRESS=Ravenwood GC 929 Lynaugh Road Victor New York 14564 United States;X-APPLE-RADIUS=500;X-TITLE=929 Lynaugh Road:geo:-77.3952193,42.9935113
END:VEVENT
BEGIN:VEVENT
DTSTART;VALUE=DATE:20210524
DTEND;VALUE=DATE:20210525
DTSTAMP:20260426T031711
CREATED:20210208T164136Z
LAST-MODIFIED:20210208T164136Z
UID:10000474-1621814400-1621900799@westernnewyork.pga.com
SUMMARY:Elkdale Pro-Am
DESCRIPTION:
URL:https://westernnewyork.pga.com/event/elkdale-pro-am/
LOCATION:Elkdale CC\, P.O. Box 544 Rt. 353\, Salamanaca\, New York\, 14779\, United States
CATEGORIES:Professional
GEO:42.1697352;-78.7455757
X-APPLE-STRUCTURED-LOCATION;VALUE=URI;X-ADDRESS=Elkdale CC P.O. Box 544 Rt. 353 Salamanaca New York 14779 United States;X-APPLE-RADIUS=500;X-TITLE=P.O. Box 544 Rt. 353:geo:-78.7455757,42.1697352
END:VEVENT
BEGIN:VEVENT
DTSTART;VALUE=DATE:20210517
DTEND;VALUE=DATE:20210518
DTSTAMP:20260426T031711
CREATED:20210208T163933Z
LAST-MODIFIED:20210303T175022Z
UID:10000473-1621209600-1621295999@westernnewyork.pga.com
SUMMARY:WNYPGA Pro-Pro Stableford
DESCRIPTION:
URL:https://westernnewyork.pga.com/event/wnypga-stableford-2/
LOCATION:Lancaster CC\, 6061 Broadway P.O. Box 289\, Lancaster\, New York\, 14086\, United States
CATEGORIES:Professional
GEO:42.9004019;-78.6711262
X-APPLE-STRUCTURED-LOCATION;VALUE=URI;X-ADDRESS=Lancaster CC 6061 Broadway P.O. Box 289 Lancaster New York 14086 United States;X-APPLE-RADIUS=500;X-TITLE=6061 Broadway P.O. Box 289:geo:-78.6711262,42.9004019
END:VEVENT
END:VCALENDAR