BEGIN:VCALENDAR
VERSION:2.0
PRODID:-//Western New York - ECPv6.15.20//NONSGML v1.0//EN
CALSCALE:GREGORIAN
METHOD:PUBLISH
X-WR-CALNAME:Western New York
X-ORIGINAL-URL:https://westernnewyork.pga.com
X-WR-CALDESC:Events for Western New York
REFRESH-INTERVAL;VALUE=DURATION:PT1H
X-Robots-Tag:noindex
X-PUBLISHED-TTL:PT1H
BEGIN:VTIMEZONE
TZID:UTC
BEGIN:STANDARD
TZOFFSETFROM:+0000
TZOFFSETTO:+0000
TZNAME:UTC
DTSTART:20180101T000000
END:STANDARD
END:VTIMEZONE
BEGIN:VEVENT
DTSTART;VALUE=DATE:20200813
DTEND;VALUE=DATE:20200814
DTSTAMP:20260426T001818
CREATED:20200107T181947Z
LAST-MODIFIED:20200107T194319Z
UID:10000440-1597276800-1597363199@westernnewyork.pga.com
SUMMARY:WNYPGA Jr League Championship
DESCRIPTION:This event is composed of the WNYPGA Jr League Divisional All-Star Teams. One Team will advance to the Regional Finals.
URL:https://westernnewyork.pga.com/event/wnypga-jr-league-championship-2/
CATEGORIES:Junior Golf
END:VEVENT
BEGIN:VEVENT
DTSTART;VALUE=DATE:20200803
DTEND;VALUE=DATE:20200805
DTSTAMP:20260426T001818
CREATED:20200107T181946Z
LAST-MODIFIED:20200107T194012Z
UID:10000439-1596412800-1596585599@westernnewyork.pga.com
SUMMARY:WNYPGA Jr Tour Championship
DESCRIPTION:Junior Tour Championship is Invitation Only based on Player of the Year Standings
URL:https://westernnewyork.pga.com/event/wnypga-jr-tour-championship-2/
LOCATION:Stafford CC\, 8873 Morganville Road\, Stafford\, New York\, 14143\, United States
CATEGORIES:Junior Golf
GEO:42.987164;-78.0711029
X-APPLE-STRUCTURED-LOCATION;VALUE=URI;X-ADDRESS=Stafford CC 8873 Morganville Road Stafford New York 14143 United States;X-APPLE-RADIUS=500;X-TITLE=8873 Morganville Road:geo:-78.0711029,42.987164
END:VEVENT
BEGIN:VEVENT
DTSTART;VALUE=DATE:20200730
DTEND;VALUE=DATE:20200731
DTSTAMP:20260426T001818
CREATED:20200107T181944Z
LAST-MODIFIED:20200107T195450Z
UID:10000438-1596067200-1596153599@westernnewyork.pga.com
SUMMARY:WNYPGA Jr Tour Kahkwa Club
DESCRIPTION:Junior Tour Event open to members of The WNYPGA Junior Tour Ages 10 – 18
URL:https://westernnewyork.pga.com/event/wnypga-jr-tour-kahkwa-club/
CATEGORIES:Junior Golf
END:VEVENT
BEGIN:VEVENT
DTSTART;VALUE=DATE:20200729
DTEND;VALUE=DATE:20200730
DTSTAMP:20260426T001818
CREATED:20200107T181944Z
LAST-MODIFIED:20200107T195734Z
UID:10000311-1595980800-1596067199@westernnewyork.pga.com
SUMMARY:WNYPGA Jr Tour Shorewood CC
DESCRIPTION:Junior Tour Event open to members of The WNYPGA Junior Tour Ages 10 – 18
URL:https://westernnewyork.pga.com/event/wnypga-jr-tour-shorewood-cc-3/
LOCATION:Shorewood CC\, 4958 West Lake Road\, Dunkirk\, New York\, 14048\, United States
CATEGORIES:Junior Golf
GEO:42.4653517;-79.3769056
X-APPLE-STRUCTURED-LOCATION;VALUE=URI;X-ADDRESS=Shorewood CC 4958 West Lake Road Dunkirk New York 14048 United States;X-APPLE-RADIUS=500;X-TITLE=4958 West Lake Road:geo:-79.3769056,42.4653517
END:VEVENT
BEGIN:VEVENT
DTSTART;VALUE=DATE:20200728
DTEND;VALUE=DATE:20200729
DTSTAMP:20260426T001818
CREATED:20200107T181930Z
LAST-MODIFIED:20200420T205411Z
UID:10000432-1595894400-1595980799@westernnewyork.pga.com
SUMMARY:WNYPGA Jr Tour Wild Wood CC
DESCRIPTION:Junior Tour Event open to members of The WNYPGA Junior Tour Ages 10 – 18
URL:https://westernnewyork.pga.com/event/wnypga-jr-tour-wild-wood-cc-2/
LOCATION:Wild Wood CC\, 1201 West Rush Rd. Box 260\, Rush\, New York\, 14543\, United States
CATEGORIES:Junior Golf
GEO:42.9837215;-77.6451823
X-APPLE-STRUCTURED-LOCATION;VALUE=URI;X-ADDRESS=Wild Wood CC 1201 West Rush Rd. Box 260 Rush New York 14543 United States;X-APPLE-RADIUS=500;X-TITLE=1201 West Rush Rd. Box 260:geo:-77.6451823,42.9837215
END:VEVENT
BEGIN:VEVENT
DTSTART;VALUE=DATE:20200727
DTEND;VALUE=DATE:20200728
DTSTAMP:20260426T001818
CREATED:20200107T181943Z
LAST-MODIFIED:20200107T195917Z
UID:10000310-1595808000-1595894399@westernnewyork.pga.com
SUMMARY:WNYPGA Jr Tour Webster GC
DESCRIPTION:Junior Tour Event open to members of The WNYPGA Junior Tour Ages 10 – 18
URL:https://westernnewyork.pga.com/event/wnypga-jr-tour-webster-gc/
CATEGORIES:Junior Golf
END:VEVENT
BEGIN:VEVENT
DTSTART;VALUE=DATE:20200725
DTEND;VALUE=DATE:20200726
DTSTAMP:20260426T001818
CREATED:20200107T181929Z
LAST-MODIFIED:20200420T145726Z
UID:10000430-1595635200-1595721599@westernnewyork.pga.com
SUMMARY:WNYPGA Jr Tour Lake Shore CC Rochester
DESCRIPTION:Junior Tour Event open to members of The WNYPGA Junior Tour Ages 13 – 18
URL:https://westernnewyork.pga.com/event/wnypga-jr-tour-lake-shore-cc-rochester-2/
LOCATION:Lake Shore CC\, 1165 Greenleaf Road\, Rochester\, New York\, 14612\, United States
CATEGORIES:Junior Golf
GEO:43.2642232;-77.624617
X-APPLE-STRUCTURED-LOCATION;VALUE=URI;X-ADDRESS=Lake Shore CC 1165 Greenleaf Road Rochester New York 14612 United States;X-APPLE-RADIUS=500;X-TITLE=1165 Greenleaf Road:geo:-77.624617,43.2642232
END:VEVENT
BEGIN:VEVENT
DTSTART;VALUE=DATE:20200723
DTEND;VALUE=DATE:20200724
DTSTAMP:20260426T001818
CREATED:20200107T181935Z
LAST-MODIFIED:20200418T160649Z
UID:10000436-1595462400-1595548799@westernnewyork.pga.com
SUMMARY:WNYPGA Jr Tour Downing GC
DESCRIPTION:Junior Tour Event open to members of The WNYPGA Junior Tour Ages 10 – 18
URL:https://westernnewyork.pga.com/event/wnypga-jr-tour-downing-gc/
CATEGORIES:Junior Golf
END:VEVENT
BEGIN:VEVENT
DTSTART;VALUE=DATE:20200721
DTEND;VALUE=DATE:20200722
DTSTAMP:20260426T001818
CREATED:20200107T181942Z
LAST-MODIFIED:20200107T200906Z
UID:10000309-1595289600-1595375999@westernnewyork.pga.com
SUMMARY:WNYPGA Jr Tour Livingston CC
DESCRIPTION:Junior Tour Event open to members of The WNYPGA Junior Tour Ages 10 – 18
URL:https://westernnewyork.pga.com/event/wnypga-jr-tour-livingston-cc/
CATEGORIES:Junior Golf
END:VEVENT
BEGIN:VEVENT
DTSTART;VALUE=DATE:20200720
DTEND;VALUE=DATE:20200721
DTSTAMP:20260426T001818
CREATED:20200107T181941Z
LAST-MODIFIED:20200107T201152Z
UID:10000308-1595203200-1595289599@westernnewyork.pga.com
SUMMARY:WNYPGA Jr Tour Lancaster CC
DESCRIPTION:Junior Tour Event open to members of The WNYPGA Junior Tour Ages 10 – 18
URL:https://westernnewyork.pga.com/event/wnypga-jr-tour-lancaster-cc-2/
LOCATION:Lancaster CC\, 6061 Broadway P.O. Box 289\, Lancaster\, New York\, 14086\, United States
CATEGORIES:Junior Golf
GEO:42.9004019;-78.6711262
X-APPLE-STRUCTURED-LOCATION;VALUE=URI;X-ADDRESS=Lancaster CC 6061 Broadway P.O. Box 289 Lancaster New York 14086 United States;X-APPLE-RADIUS=500;X-TITLE=6061 Broadway P.O. Box 289:geo:-78.6711262,42.9004019
END:VEVENT
BEGIN:VEVENT
DTSTART;VALUE=DATE:20200719
DTEND;VALUE=DATE:20200720
DTSTAMP:20260426T001818
CREATED:20200107T181614Z
LAST-MODIFIED:20200331T143329Z
UID:10000300-1595116800-1595203199@westernnewyork.pga.com
SUMMARY:WNYPGA Jr Tour Ridgemont CC
DESCRIPTION:Junior Tour Event open to members of The WNYPGA Junior Tour Ages 10 – 18
URL:https://westernnewyork.pga.com/event/wnypga-jr-tour-ridgemont-cc-2/
LOCATION:Ridgemont CC\, 3717 Ridge Road West\, Rochester\, New York\, 14626\, United States
CATEGORIES:Junior Golf
GEO:43.209392;-77.727489
X-APPLE-STRUCTURED-LOCATION;VALUE=URI;X-ADDRESS=Ridgemont CC 3717 Ridge Road West Rochester New York 14626 United States;X-APPLE-RADIUS=500;X-TITLE=3717 Ridge Road West:geo:-77.727489,43.209392
END:VEVENT
BEGIN:VEVENT
DTSTART;VALUE=DATE:20200717
DTEND;VALUE=DATE:20200718
DTSTAMP:20260426T001818
CREATED:20200107T181940Z
LAST-MODIFIED:20200107T201304Z
UID:10000307-1594944000-1595030399@westernnewyork.pga.com
SUMMARY:WNYPGA Jr Tour Geneva CC
DESCRIPTION:Junior Tour Event open to members of The WNYPGA Junior Tour Ages 13 – 18
URL:https://westernnewyork.pga.com/event/wnypga-jr-tour-geneva-cc-2/
LOCATION:Geneva CC\, P.O. Box 528\, Geneva\, New York\, 14456\, United States
CATEGORIES:Junior Golf
GEO:42.8676923;-76.9831941
X-APPLE-STRUCTURED-LOCATION;VALUE=URI;X-ADDRESS=Geneva CC P.O. Box 528 Geneva New York 14456 United States;X-APPLE-RADIUS=500;X-TITLE=P.O. Box 528:geo:-76.9831941,42.8676923
END:VEVENT
BEGIN:VEVENT
DTSTART;VALUE=DATE:20200711
DTEND;VALUE=DATE:20200713
DTSTAMP:20260426T001818
CREATED:20200107T181938Z
LAST-MODIFIED:20200107T201419Z
UID:10000305-1594425600-1594598399@westernnewyork.pga.com
SUMMARY:Fore Golf Jr Series Glen Oak
DESCRIPTION:Open to Juniors 13 – 18
URL:https://westernnewyork.pga.com/event/fore-golf-jr-series-glen-oak/
CATEGORIES:Junior Golf
END:VEVENT
BEGIN:VEVENT
DTSTART;VALUE=DATE:20200709
DTEND;VALUE=DATE:20200710
DTSTAMP:20260426T001818
CREATED:20200107T181630Z
LAST-MODIFIED:20200410T152532Z
UID:10000301-1594252800-1594339199@westernnewyork.pga.com
SUMMARY:WNYPGA Jr Tour Terry Hills GC
DESCRIPTION:Junior Tour Event open to members of The WNYPGA Junior Tour Ages 10 – 18
URL:https://westernnewyork.pga.com/event/wnypga-jr-tour-terry-hills-gc/
CATEGORIES:Junior Golf
END:VEVENT
BEGIN:VEVENT
DTSTART;VALUE=DATE:20200708
DTEND;VALUE=DATE:20200709
DTSTAMP:20260426T001818
CREATED:20200107T181631Z
LAST-MODIFIED:20200422T155621Z
UID:10000428-1594166400-1594252799@westernnewyork.pga.com
SUMMARY:WNYPGA Jr Tour Chautauqua GC
DESCRIPTION:Junior Tour Event open to members of The WNYPGA Junior Tour Ages 10 – 18
URL:https://westernnewyork.pga.com/event/wnypga-jr-tour-chautauqua-gc-2/
LOCATION:Chautauqua GC\, 4731 West lake Road\, Chautauqua\, New York\, 14722\, United States
CATEGORIES:Junior Golf
GEO:42.2071885;-79.4689632
X-APPLE-STRUCTURED-LOCATION;VALUE=URI;X-ADDRESS=Chautauqua GC 4731 West lake Road Chautauqua New York 14722 United States;X-APPLE-RADIUS=500;X-TITLE=4731 West lake Road:geo:-79.4689632,42.2071885
END:VEVENT
BEGIN:VEVENT
DTSTART;VALUE=DATE:20200707
DTEND;VALUE=DATE:20200708
DTSTAMP:20260426T001818
CREATED:20200107T181936Z
LAST-MODIFIED:20200107T201604Z
UID:10000437-1594080000-1594166399@westernnewyork.pga.com
SUMMARY:WNYPGA Jr Tour Eagle Vale GC
DESCRIPTION:Junior Tour Event open to members of The WNYPGA Junior Tour Ages 10 – 18
URL:https://westernnewyork.pga.com/event/wnypga-jr-tour-eagle-vale-gc-2/
LOCATION:Eagle Vale GC\, 4400 Nine Mile Pt. Rd.\, Fairport\, New York\, 14450\, United States
CATEGORIES:Junior Golf
GEO:43.1175136;-77.4391953
X-APPLE-STRUCTURED-LOCATION;VALUE=URI;X-ADDRESS=Eagle Vale GC 4400 Nine Mile Pt. Rd. Fairport New York 14450 United States;X-APPLE-RADIUS=500;X-TITLE=4400 Nine Mile Pt. Rd.:geo:-77.4391953,43.1175136
END:VEVENT
BEGIN:VEVENT
DTSTART;VALUE=DATE:20200705
DTEND;VALUE=DATE:20200706
DTSTAMP:20260426T001818
CREATED:20200107T181613Z
LAST-MODIFIED:20200401T195449Z
UID:10000299-1593907200-1593993599@westernnewyork.pga.com
SUMMARY:WNYPGA Jr Tour Greystone GC
DESCRIPTION:Junior Tour Event open to members of The WNYPGA Junior Tour Ages 10 – 18
URL:https://westernnewyork.pga.com/event/wnypga-jr-tour-greystone-gc/
CATEGORIES:Junior Golf
END:VEVENT
BEGIN:VEVENT
DTSTART;VALUE=DATE:20200702
DTEND;VALUE=DATE:20200703
DTSTAMP:20260426T001818
CREATED:20200107T181940Z
LAST-MODIFIED:20200107T201857Z
UID:10000306-1593648000-1593734399@westernnewyork.pga.com
SUMMARY:WNYPGA Jr Tour Mendon GC
DESCRIPTION:Junior Tour Event open to members of The WNYPGA Junior Tour Ages 10 – 18
URL:https://westernnewyork.pga.com/event/wnypga-jr-tour-mendon-gc-2/
LOCATION:Mendon GC\, P.O. Box 336\, Mendon\, New York\, 14506\, United States
CATEGORIES:Junior Golf
GEO:43.0006339;-77.5086428
X-APPLE-STRUCTURED-LOCATION;VALUE=URI;X-ADDRESS=Mendon GC P.O. Box 336 Mendon New York 14506 United States;X-APPLE-RADIUS=500;X-TITLE=P.O. Box 336:geo:-77.5086428,43.0006339
END:VEVENT
BEGIN:VEVENT
DTSTART;VALUE=DATE:20200701
DTEND;VALUE=DATE:20200702
DTSTAMP:20260426T001818
CREATED:20200107T181929Z
LAST-MODIFIED:20200418T160359Z
UID:10000431-1593561600-1593647999@westernnewyork.pga.com
SUMMARY:WNYPGA Jr Tour Shorewood CC
DESCRIPTION:Junior Tour Event open to members of The WNYPGA Junior Tour Ages 10 – 18
URL:https://westernnewyork.pga.com/event/wnypga-jr-tour-shorewood-cc-2/
LOCATION:Shorewood CC\, 4958 West Lake Road\, Dunkirk\, New York\, 14048\, United States
CATEGORIES:Junior Golf
GEO:42.4653517;-79.3769056
X-APPLE-STRUCTURED-LOCATION;VALUE=URI;X-ADDRESS=Shorewood CC 4958 West Lake Road Dunkirk New York 14048 United States;X-APPLE-RADIUS=500;X-TITLE=4958 West Lake Road:geo:-79.3769056,42.4653517
END:VEVENT
BEGIN:VEVENT
DTSTART;VALUE=DATE:20200629
DTEND;VALUE=DATE:20200630
DTSTAMP:20260426T001818
CREATED:20200107T181631Z
LAST-MODIFIED:20200529T133036Z
UID:10000429-1593388800-1593475199@westernnewyork.pga.com
SUMMARY:WNYPGA Jr Tour Holiday Valley Resort
DESCRIPTION:Junior Tour Event open to members of The WNYPGA Junior Tour Ages 10 – 18
URL:https://westernnewyork.pga.com/event/wnypga-jr-tour-holiday-valley-resort-2/
LOCATION:Holiday Valley Resort\, P.O. Box 370 - Holiday Valley Rd.\, Ellicottville\, New York\, 14731\, United States
CATEGORIES:Junior Golf
GEO:42.2629327;-78.6855629
X-APPLE-STRUCTURED-LOCATION;VALUE=URI;X-ADDRESS=Holiday Valley Resort P.O. Box 370 - Holiday Valley Rd. Ellicottville New York 14731 United States;X-APPLE-RADIUS=500;X-TITLE=P.O. Box 370 - Holiday Valley Rd.:geo:-78.6855629,42.2629327
END:VEVENT
BEGIN:VEVENT
DTSTART;VALUE=DATE:20200628
DTEND;VALUE=DATE:20200629
DTSTAMP:20260426T001818
CREATED:20200107T181938Z
LAST-MODIFIED:20200107T202016Z
UID:10000304-1593302400-1593388799@westernnewyork.pga.com
SUMMARY:WNYPGA Jr Tour Timber Ridge GC
DESCRIPTION:Junior Tour Event open to members of The WNYPGA Junior Tour Ages 10 – 18
URL:https://westernnewyork.pga.com/event/wnypga-jr-tour-timber-ridge-gc/
CATEGORIES:Junior Golf
END:VEVENT
BEGIN:VEVENT
DTSTART;VALUE=DATE:20200626
DTEND;VALUE=DATE:20200627
DTSTAMP:20260426T001818
CREATED:20200107T181937Z
LAST-MODIFIED:20200107T202337Z
UID:10000303-1593129600-1593215999@westernnewyork.pga.com
SUMMARY:WNYPGA Junior Championship
DESCRIPTION:Eligibility:minimum 13 years old for boys and girls as of June 26\, 2020\, Boys must be under the age of 19 as of August 3\, 2020\, Girls must be under the age of 19 as of July 13\, 2020 and reside within the WNYPGA Section
URL:https://westernnewyork.pga.com/event/wnypga-junior-championship-2/
CATEGORIES:Junior Golf
END:VEVENT
BEGIN:VEVENT
DTSTART;VALUE=DATE:20200621
DTEND;VALUE=DATE:20200622
DTSTAMP:20260426T001818
CREATED:20200107T181930Z
LAST-MODIFIED:20200418T160530Z
UID:10000433-1592697600-1592783999@westernnewyork.pga.com
SUMMARY:WNYPGA Jr Tour Lake View CC
DESCRIPTION:Junior Tour Event open to members of The WNYPGA Junior Tour Ages 10 – 18
URL:https://westernnewyork.pga.com/event/wnypga-jr-tour-lake-view-cc-2/
LOCATION:Lake View CC\, 8351 Station Rd. PA Route 89\, North East\, Pennsylvania\, 16428\, United States
CATEGORIES:Junior Golf
GEO:42.181322;-79.8229662
X-APPLE-STRUCTURED-LOCATION;VALUE=URI;X-ADDRESS=Lake View CC 8351 Station Rd. PA Route 89 North East Pennsylvania 16428 United States;X-APPLE-RADIUS=500;X-TITLE=8351 Station Rd. PA Route 89:geo:-79.8229662,42.181322
END:VEVENT
BEGIN:VEVENT
DTSTART;VALUE=DATE:20200615
DTEND;VALUE=DATE:20200616
DTSTAMP:20260426T001818
CREATED:20200107T181935Z
LAST-MODIFIED:20200529T220357Z
UID:10000435-1592179200-1592265599@westernnewyork.pga.com
SUMMARY:WNYPGA Jr Tour Conewango Valley CC
DESCRIPTION:Junior Tour Event open to members of The WNYPGA Junior Tour Ages 10 – 18
URL:https://westernnewyork.pga.com/event/wnypga-jr-tour-elkdale-cc-2/
LOCATION:Elkdale CC\, P.O. Box 544 Rt. 353\, Salamanaca\, New York\, 14779\, United States
CATEGORIES:Junior Golf
GEO:42.1697352;-78.7455757
X-APPLE-STRUCTURED-LOCATION;VALUE=URI;X-ADDRESS=Elkdale CC P.O. Box 544 Rt. 353 Salamanaca New York 14779 United States;X-APPLE-RADIUS=500;X-TITLE=P.O. Box 544 Rt. 353:geo:-78.7455757,42.1697352
END:VEVENT
BEGIN:VEVENT
DTSTART;VALUE=DATE:20200614
DTEND;VALUE=DATE:20200615
DTSTAMP:20260426T001818
CREATED:20200107T181930Z
LAST-MODIFIED:20200529T215953Z
UID:10000434-1592092800-1592179199@westernnewyork.pga.com
SUMMARY:WNYPGA Jr Tour  The Pennhills Club
DESCRIPTION:Junior Tour Event open to members of The WNYPGA Junior Tour Ages 10 – 18
URL:https://westernnewyork.pga.com/event/wnypga-jr-tour-gowanda-cc-2/
LOCATION:Gowanda CC\, 2623 Brown Road\, Collins\, New York\, 14034\, United States
CATEGORIES:Junior Golf
GEO:42.5184258;-78.9048798
X-APPLE-STRUCTURED-LOCATION;VALUE=URI;X-ADDRESS=Gowanda CC 2623 Brown Road Collins New York 14034 United States;X-APPLE-RADIUS=500;X-TITLE=2623 Brown Road:geo:-78.9048798,42.5184258
END:VEVENT
BEGIN:VEVENT
DTSTART;VALUE=DATE:20200613
DTEND;VALUE=DATE:20200615
DTSTAMP:20260426T001818
CREATED:20200107T181936Z
LAST-MODIFIED:20200527T160031Z
UID:10000302-1592006400-1592179199@westernnewyork.pga.com
SUMMARY:Fore Golf Jr Series Mark Twain GC
DESCRIPTION:Open to Juniors 13 – 18
URL:https://westernnewyork.pga.com/event/fore-golf-jr-series-robert-trent-jones-gc/
CATEGORIES:Junior Golf
END:VEVENT
BEGIN:VEVENT
DTSTART;VALUE=DATE:20190815
DTEND;VALUE=DATE:20190816
DTSTAMP:20260426T001818
CREATED:20190212T152333Z
LAST-MODIFIED:20190212T152333Z
UID:10000380-1565827200-1565913599@westernnewyork.pga.com
SUMMARY:WNYPGA Jr League Championship
DESCRIPTION:This event is composed of the WNYPGA Jr League Divisional All-Star Teams. One Team will advance to the Regional Finals.
URL:https://westernnewyork.pga.com/event/wnypga-jr-league-championship/
LOCATION:Glen Oak GC\, East Amherst\, NY\, 711 Smith Road PO Box 179\, East Amherst\, NY\, 14051\, United States
CATEGORIES:Junior Golf
GEO:43.047837;-78.7140959
X-APPLE-STRUCTURED-LOCATION;VALUE=URI;X-ADDRESS=Glen Oak GC East Amherst NY 711 Smith Road PO Box 179 East Amherst NY 14051 United States;X-APPLE-RADIUS=500;X-TITLE=711 Smith Road PO Box 179:geo:-78.7140959,43.047837
END:VEVENT
BEGIN:VEVENT
DTSTART;VALUE=DATE:20190808
DTEND;VALUE=DATE:20190809
DTSTAMP:20260426T001818
CREATED:20190212T152332Z
LAST-MODIFIED:20190212T152332Z
UID:10000379-1565222400-1565308799@westernnewyork.pga.com
SUMMARY:Drive Chip & Putt Sub Regional Qualifier
DESCRIPTION:This event is composed of the top 3 Qualifiers in all age divisions from the Local DCP Qualifiers. One Qualifier in each age division will advance to the Regional Qualifier.
URL:https://westernnewyork.pga.com/event/drive-chip-putt-sub-regional-qualifier/
LOCATION:Glen Oak GC\, East Amherst\, NY\, 711 Smith Road PO Box 179\, East Amherst\, NY\, 14051\, United States
CATEGORIES:Junior Golf
GEO:43.047837;-78.7140959
X-APPLE-STRUCTURED-LOCATION;VALUE=URI;X-ADDRESS=Glen Oak GC East Amherst NY 711 Smith Road PO Box 179 East Amherst NY 14051 United States;X-APPLE-RADIUS=500;X-TITLE=711 Smith Road PO Box 179:geo:-78.7140959,43.047837
END:VEVENT
BEGIN:VEVENT
DTSTART;VALUE=DATE:20190806
DTEND;VALUE=DATE:20190808
DTSTAMP:20260426T001818
CREATED:20190212T152332Z
LAST-MODIFIED:20190212T152332Z
UID:10000378-1565049600-1565222399@westernnewyork.pga.com
SUMMARY:WNYPGA Jr Tour Championship
DESCRIPTION:Junior Tour Championship is Invitation Only based on Player of the Year Standings
URL:https://westernnewyork.pga.com/event/wnypga-jr-tour-championship/
LOCATION:Stafford CC\, 8873 Morganville Road\, Stafford\, New York\, 14143\, United States
CATEGORIES:Junior Golf
GEO:42.987164;-78.0711029
X-APPLE-STRUCTURED-LOCATION;VALUE=URI;X-ADDRESS=Stafford CC 8873 Morganville Road Stafford New York 14143 United States;X-APPLE-RADIUS=500;X-TITLE=8873 Morganville Road:geo:-78.0711029,42.987164
END:VEVENT
BEGIN:VEVENT
DTSTART;VALUE=DATE:20190730
DTEND;VALUE=DATE:20190731
DTSTAMP:20260426T001818
CREATED:20190212T152332Z
LAST-MODIFIED:20190212T152332Z
UID:10000377-1564444800-1564531199@westernnewyork.pga.com
SUMMARY:WNYPGA Jr Tour Buffalo TC
DESCRIPTION:Junior Tour Event open to members of The WNYPGA Junior Tour Ages 10 – 18
URL:https://westernnewyork.pga.com/event/wnypga-jr-tour-buffalo-tc/
LOCATION:Buffalo TC\, 6432 Genesee Street\, Lancaster\, New York\, 14086\, United States
CATEGORIES:Junior Golf
GEO:42.9471072;-78.5795316
X-APPLE-STRUCTURED-LOCATION;VALUE=URI;X-ADDRESS=Buffalo TC 6432 Genesee Street Lancaster New York 14086 United States;X-APPLE-RADIUS=500;X-TITLE=6432 Genesee Street:geo:-78.5795316,42.9471072
END:VEVENT
END:VCALENDAR